BEGIN:VCALENDAR
VERSION:2.0
PRODID:-//wp-events-plugin.com//7.2.3.1//EN
TZID:Europe/Paris
X-WR-TIMEZONE:Europe/Paris
BEGIN:VEVENT
UID:145@christellecoud.net
DTSTART;TZID=Europe/Paris:20200320T163000
DTEND;TZID=Europe/Paris:20200320T180000
DTSTAMP:20200313T095406Z
URL:https://christellecoud.net/ateliers/prise-en-main-de-votre-machine-3/
SUMMARY:Dompter votre machine
DESCRIPTION:0 / 0
LOCATION:Atelier de Christelle\, 66 rue H. Barbusse\, REZE\, 44400\, France
X-APPLE-STRUCTURED-LOCATION;VALUE=URI;X-ADDRESS=66 rue H. Barbusse\, REZE\,
  44400\, France;X-APPLE-RADIUS=100;X-TITLE=Atelier de Christelle:geo:0,0
END:VEVENT
BEGIN:VTIMEZONE
TZID:Europe/Paris
X-LIC-LOCATION:Europe/Paris
BEGIN:STANDARD
DTSTART:20191027T020000
TZOFFSETFROM:+0200
TZOFFSETTO:+0100
TZNAME:CET
END:STANDARD
END:VTIMEZONE
END:VCALENDAR