BEGIN:VCALENDAR
VERSION:2.0
PRODID:-//wp-events-plugin.com//7.2.3.1//EN
TZID:Europe/Paris
X-WR-TIMEZONE:Europe/Paris
BEGIN:VEVENT
UID:141@christellecoud.net
DTSTART;TZID=Europe/Paris:20200321T140000
DTEND;TZID=Europe/Paris:20200321T170000
DTSTAMP:20200313T095433Z
URL:https://christellecoud.net/ateliers/je-decouvre-la-couture-a-la-recouv
 reuse-7/
SUMMARY:ANNULE et REPORTE --- Je découvre la couture à la recouvreuse
DESCRIPTION:4 / 5
LOCATION:Atelier\, 66 rue Henri Barbusse\, REZE\, France
X-APPLE-STRUCTURED-LOCATION;VALUE=URI;X-ADDRESS=66 rue Henri Barbusse\, REZ
 E\, France;X-APPLE-RADIUS=100;X-TITLE=Atelier:geo:0,0
END:VEVENT
BEGIN:VTIMEZONE
TZID:Europe/Paris
X-LIC-LOCATION:Europe/Paris
BEGIN:STANDARD
DTSTART:20191027T020000
TZOFFSETFROM:+0200
TZOFFSETTO:+0100
TZNAME:CET
END:STANDARD
END:VTIMEZONE
END:VCALENDAR